BEGIN:VCALENDAR
VERSION:2.0
PRODID:-//eventon.com NONSGML v1.0//EN
BEGIN:VEVENT
UID:69eca932be544
DTSTAMP:20260425T054450
DTSTART:20190828T150000Z
DTEND:20190828T190000Z
TZID:UTC
LOCATION:
SUMMARY:FILUNI 15:00 - 19:00HRS
DESCRIPTION: FILUNI 15:00 - 19:00HRS\nhttps://universodeletras.unam.mx/events/filuni-1500-1900hrs/
URL:https://universodeletras.unam.mx/events/filuni-1500-1900hrs/
END:VEVENT
END:VCALENDAR